
 BEGIN:VCALENDAR
VERSION:2.0
PRODID:-//Red Cocks Frankfurt (Oder) - ECPv6.10.2//NONSGML v1.0//EN
CALSCALE:GREGORIAN
METHOD:PUBLISH
X-WR-CALNAME:Red Cocks Frankfurt (Oder)
X-ORIGINAL-URL:https://rc-ffo.de
X-WR-CALDESC:Veranstaltungen für Red Cocks Frankfurt (Oder)
REFRESH-INTERVAL;VALUE=DURATION:PT1H
X-Robots-Tag:noindex
X-PUBLISHED-TTL:PT1H
BEGIN:VTIMEZONE
TZID:Europe/Berlin
BEGIN:DAYLIGHT
TZOFFSETFROM:+0100
TZOFFSETTO:+0200
TZNAME:CEST
DTSTART:20260329T010000
END:DAYLIGHT
BEGIN:STANDARD
TZOFFSETFROM:+0200
TZOFFSETTO:+0100
TZNAME:CET
DTSTART:20261025T010000
END:STANDARD
END:VTIMEZONE
BEGIN:VEVENT
DTSTART;TZID=Europe/Berlin:20260307T110000
DTEND;TZID=Europe/Berlin:20260307T170000
DTSTAMP:20260420T162047
CREATED:20250930T183934Z
LAST-MODIFIED:20260220T130600Z
UID:10000035-1772881200-1772902800@rc-ffo.de
SUMMARY:East State Cheerleading Champonship
DESCRIPTION:Am 07. März 2026 findet die East State Cheerleading Championship (ESCC) in der Brandenburghalle im Sportzentrum Frankfurt (Oder) statt. Die Landesmeisterschaft bringt über 45 Teams mit rund 500 Cheerleaderinnen und Cheerleadern aus Berlin\, Brandenburg\, Sachsen und Sachsen-Anhalt zusammen. Die teilnehmenden Teams kämpfen um die Qualifikation zur Deutschen Meisterschaft\, die am 30. Mai 2026 in Frankfurt am Main ausgetragen wird. Veranstaltet wird die Meisterschaft von drei Landesverbänden. Der Einlass beginnt um 11:00 Uhr\, der Wettkampfbeginn ist für 12:00 Uhr vorgesehen. Zuschauer und Sportbegeisterte sind herzlich eingeladen\, die Teams vor Ort zu unterstützen.
URL:https://rc-ffo.de/veranstaltungen/east-state-cheerleading-champonship/
LOCATION:Brandenburg Halle\, Stendaler Straße 26\, Frankfurt (Oder)\, 15234
CATEGORIES:Verein
ATTACH;FMTTYPE=image/png:https://rc-ffo.de/cms/wp-content/uploads/2025/09/Website-News-ESSC-Save-the-date.png
END:VEVENT
END:VCALENDAR